BEGIN:VCALENDAR
VERSION:2.0
PRODID:-//Ruhrpott erleben - ECPv6.15.20//NONSGML v1.0//EN
CALSCALE:GREGORIAN
METHOD:PUBLISH
X-WR-CALNAME:Ruhrpott erleben
X-ORIGINAL-URL:https://ruhrpott-erleben.de
X-WR-CALDESC:Veranstaltungen für Ruhrpott erleben
REFRESH-INTERVAL;VALUE=DURATION:PT1H
X-Robots-Tag:noindex
X-PUBLISHED-TTL:PT1H
BEGIN:VTIMEZONE
TZID:Europe/Berlin
BEGIN:DAYLIGHT
TZOFFSETFROM:+0100
TZOFFSETTO:+0200
TZNAME:CEST
DTSTART:20250330T010000
END:DAYLIGHT
BEGIN:STANDARD
TZOFFSETFROM:+0200
TZOFFSETTO:+0100
TZNAME:CET
DTSTART:20251026T010000
END:STANDARD
BEGIN:DAYLIGHT
TZOFFSETFROM:+0100
TZOFFSETTO:+0200
TZNAME:CEST
DTSTART:20260329T010000
END:DAYLIGHT
BEGIN:STANDARD
TZOFFSETFROM:+0200
TZOFFSETTO:+0100
TZNAME:CET
DTSTART:20261025T010000
END:STANDARD
BEGIN:DAYLIGHT
TZOFFSETFROM:+0100
TZOFFSETTO:+0200
TZNAME:CEST
DTSTART:20270328T010000
END:DAYLIGHT
BEGIN:STANDARD
TZOFFSETFROM:+0200
TZOFFSETTO:+0100
TZNAME:CET
DTSTART:20271031T010000
END:STANDARD
END:VTIMEZONE
BEGIN:VEVENT
DTSTART;TZID=Europe/Berlin:20260418T210000
DTEND;TZID=Europe/Berlin:20260419T030000
DTSTAMP:20260421T102944
CREATED:20260408T111045Z
LAST-MODIFIED:20260408T111045Z
UID:10003880-1776546000-1776567600@ruhrpott-erleben.de
SUMMARY:X-tra 3 - Die Party über 30
DESCRIPTION:18.04.2026 X-tra 3 – die Party für Leute über 30 🎉🍾 \nDas Team des Enchilada Hamm & das Simply Made DJ Team laden Euch zu der Party in den Kristallpallast ein!\nAb 18 Uhr verwöhnen Küche\, Service und Bar Euch mit Köstlichkeiten der Sunamerican Kitchen\, leckeren Cocktails und Drinks 🍹 \nAlso – Tisch 🍽️ reservieren und entspannt in den Abend starten! \nAb 21 Uhr startet das Simply Made DJ Team mit leichter Kost aus Vinyl den Partymodus.\nFeiert mit uns im außergewöhnlichen Ambiente des ehemaligen Kristall Palasts… \nEinlass Restaurant ab 18:00 Uhr\nTischreservierung bitte nur zum Essen!\nHappy Hour bis 19 Uhr\nGaderobe im 1. OG
URL:https://ruhrpott-erleben.de/event/x-tra-3-die-party-ueber-30/
LOCATION:Enchilada Hamm\, Martin Luther Straße 31-33\, Hamm
CATEGORIES:Hamm
END:VEVENT
BEGIN:VEVENT
DTSTART;TZID=Europe/Berlin:20260419T090000
DTEND;TZID=Europe/Berlin:20260419T180000
DTSTAMP:20260421T102945
CREATED:20260311T203257Z
LAST-MODIFIED:20260311T203257Z
UID:10003853-1776589200-1776621600@ruhrpott-erleben.de
SUMMARY:FIBO 2026
DESCRIPTION:16 – 19 April 2026\n Messegelände Köln
URL:https://ruhrpott-erleben.de/event/fibo-2026/2026-04-19/
LOCATION:Messegelände Köln\, Köln
CATEGORIES:Köln,Messe
ATTACH;FMTTYPE=image/jpeg:https://ruhrpott-erleben.de/wp-content/uploads/2026/03/54443202500_bccf9bdb94_w-1.jpg
END:VEVENT
BEGIN:VEVENT
DTSTART;TZID=Europe/Berlin:20260419T133000
DTEND;TZID=Europe/Berlin:20260419T153000
DTSTAMP:20260421T102945
CREATED:20260414T101128Z
LAST-MODIFIED:20260414T101128Z
UID:10003888-1776605400-1776612600@ruhrpott-erleben.de
SUMMARY:Abenteuerland - Das Musical
DESCRIPTION:ABENTEUERLAND – Das Musical mit den Hits von PUR verbindet die Facetten des Lebens mit der Intensität der Musik und lässt den vertrauten Sound von PUR erneut erstrahlen – ein einzigartiges\, tief bewegendes Live-Erlebnis über Familie\, Freundschaft\, Liebe und den Mut\, das Leben neu zu entdecken. \nTICKETS HIER \nHinweis: Dieser Artikel enthält Affiliate Links \nEin Affiliate Link führt in unserem Fall zu Eventim. Klickst du auf den Link und kaufst darüber einen Artikel\, dann erhalten wir eine kleine Provision. Am Preis ändert sich für dich rein gar nichts.
URL:https://ruhrpott-erleben.de/event/abenteuerland-das-musical/2026-04-19/1/
LOCATION:Metronom Theater\, Oberhausen
CATEGORIES:Musical,Oberhausen
END:VEVENT
BEGIN:VEVENT
DTSTART;TZID=Europe/Berlin:20260419T160000
DTEND;TZID=Europe/Berlin:20260419T180000
DTSTAMP:20260421T102945
CREATED:20260117T201145Z
LAST-MODIFIED:20260117T201145Z
UID:10003756-1776614400-1776621600@ruhrpott-erleben.de
SUMMARY:Show-Operette: Märchen im Grand-Hotel
DESCRIPTION:ab dem 24. Januar ist Paul Abrahams Jazz-Operette Märchen im Grand-Hotel erstmals in einer aufsehenerregenden Neuinszenierung in Dortmund zu erleben. \nRegisseur und Choreograf der Produktion ist „Musical-Spezialist“ Jörn-Felix Alt\, den das Dortmunder Publikum bislang vornehmlich als Bühnendarsteller kennt (u. a. als Clifford Bradshaw in Cabaret\, Gigolo in Berlin Skandalös und Link Larkin in Hairspray). \nFür seine erste Dortmunder Regiearbeit verspricht der Regisseur ein Erlebnis\, bei dem Operetten- und Musical-Freunde gleichermaßen auf ihre Kosten kommen werden: „Mein Konzept ist ganz einfach erklärt: Ich erzähle die Geschichte – mit schrägen Figuren\, schnellen Dialogen\, opulenter Optik und temporeichen Tanznummern.“ \nAuf der Bühne zu erleben sind außerdem u. a. Publikumsliebling Tanja Christine Kuhn als Infantin Isabella\, Nina Weiß als Marylou\, Ks. Morgan Moody als Filmproduzent Sam Makintosh / Präsident Chamoix\, Rob Pelzer als Prinz Andreas Stephan und Matthias Störmer als Zimmerkellner Albert.
URL:https://ruhrpott-erleben.de/event/show-operette-maerchen-im-grand-hotel/2026-04-19/
LOCATION:Oper Dortmund\, Opernhaus Dortmund\, Dortmund\, 44137
CATEGORIES:Dortmund
END:VEVENT
BEGIN:VEVENT
DTSTART;TZID=Europe/Berlin:20260419T183000
DTEND;TZID=Europe/Berlin:20260419T210000
DTSTAMP:20260421T102945
CREATED:20260414T101128Z
LAST-MODIFIED:20260414T101128Z
UID:10003889-1776623400-1776632400@ruhrpott-erleben.de
SUMMARY:Abenteuerland - Das Musical
DESCRIPTION:ABENTEUERLAND – Das Musical mit den Hits von PUR verbindet die Facetten des Lebens mit der Intensität der Musik und lässt den vertrauten Sound von PUR erneut erstrahlen – ein einzigartiges\, tief bewegendes Live-Erlebnis über Familie\, Freundschaft\, Liebe und den Mut\, das Leben neu zu entdecken. \nTICKETS HIER \nHinweis: Dieser Artikel enthält Affiliate Links \nEin Affiliate Link führt in unserem Fall zu Eventim. Klickst du auf den Link und kaufst darüber einen Artikel\, dann erhalten wir eine kleine Provision. Am Preis ändert sich für dich rein gar nichts.
URL:https://ruhrpott-erleben.de/event/abenteuerland-das-musical/2026-04-19/2/
LOCATION:Metronom Theater\, Oberhausen
CATEGORIES:Musical,Oberhausen
END:VEVENT
END:VCALENDAR