BEGIN:VCALENDAR
VERSION:2.0
PRODID:-//Ruhrpott erleben - ECPv6.15.20//NONSGML v1.0//EN
CALSCALE:GREGORIAN
METHOD:PUBLISH
X-ORIGINAL-URL:https://ruhrpott-erleben.de
X-WR-CALDESC:Veranstaltungen für Ruhrpott erleben
REFRESH-INTERVAL;VALUE=DURATION:PT1H
X-Robots-Tag:noindex
X-PUBLISHED-TTL:PT1H
BEGIN:VTIMEZONE
TZID:Europe/Berlin
BEGIN:DAYLIGHT
TZOFFSETFROM:+0100
TZOFFSETTO:+0200
TZNAME:CEST
DTSTART:20260329T010000
END:DAYLIGHT
BEGIN:STANDARD
TZOFFSETFROM:+0200
TZOFFSETTO:+0100
TZNAME:CET
DTSTART:20261025T010000
END:STANDARD
BEGIN:DAYLIGHT
TZOFFSETFROM:+0100
TZOFFSETTO:+0200
TZNAME:CEST
DTSTART:20270328T010000
END:DAYLIGHT
BEGIN:STANDARD
TZOFFSETFROM:+0200
TZOFFSETTO:+0100
TZNAME:CET
DTSTART:20271031T010000
END:STANDARD
BEGIN:DAYLIGHT
TZOFFSETFROM:+0100
TZOFFSETTO:+0200
TZNAME:CEST
DTSTART:20280326T010000
END:DAYLIGHT
BEGIN:STANDARD
TZOFFSETFROM:+0200
TZOFFSETTO:+0100
TZNAME:CET
DTSTART:20281029T010000
END:STANDARD
END:VTIMEZONE
BEGIN:VEVENT
DTSTART;TZID=Europe/Berlin:20270901T210000
DTEND;TZID=Europe/Berlin:20270902T030000
DTSTAMP:20260424T122339
CREATED:20250505T073909Z
LAST-MODIFIED:20250812T061804Z
UID:10002571-1819832400-1819854000@ruhrpott-erleben.de
SUMMARY:Karaoke Dortmund
DESCRIPTION:jeden Mittwoch und Samstag ab 21:00 Uhr
URL:https://ruhrpott-erleben.de/event/karaoke-dortmund-2/2027-09-01/
LOCATION:gentleM Dortmund\, Bornstraße 22\, Dortmund\, 44135
CATEGORIES:Dortmund
END:VEVENT
BEGIN:VEVENT
DTSTART;TZID=Europe/Berlin:20270904T070000
DTEND;TZID=Europe/Berlin:20270904T140000
DTSTAMP:20260424T122339
CREATED:20240610T161043Z
LAST-MODIFIED:20240610T161043Z
UID:10001350-1820041200-1820066400@ruhrpott-erleben.de
SUMMARY:Hansa-Markt
DESCRIPTION:
URL:https://ruhrpott-erleben.de/event/hansa-markt/2027-09-04/
LOCATION:Hansaplatz\, Hansaplatz\, Dortmund
CATEGORIES:Markt
END:VEVENT
BEGIN:VEVENT
DTSTART;TZID=Europe/Berlin:20270906T200000
DTEND;TZID=Europe/Berlin:20270906T220000
DTSTAMP:20260424T122339
CREATED:20240602T222625Z
LAST-MODIFIED:20240715T091011Z
UID:10001081-1820260800-1820268000@ruhrpott-erleben.de
SUMMARY:Jazz: Monday Night Session
DESCRIPTION:Jam Session \nOrt: Club\nVeranstalter: domicil\nEinlass: 20:00 Uhr\nBeginn: 20:30 Uhr\n\nEintritt \nAK: Eintritt frei
URL:https://ruhrpott-erleben.de/event/jazz-monday-night-session/2027-09-06/
LOCATION:Domicil\, Hansastr 7-11\, Dortmund\, 44137
CATEGORIES:Kultur
END:VEVENT
BEGIN:VEVENT
DTSTART;TZID=Europe/Berlin:20270908T210000
DTEND;TZID=Europe/Berlin:20270909T030000
DTSTAMP:20260424T122339
CREATED:20250505T073909Z
LAST-MODIFIED:20250812T061804Z
UID:10002572-1820437200-1820458800@ruhrpott-erleben.de
SUMMARY:Karaoke Dortmund
DESCRIPTION:jeden Mittwoch und Samstag ab 21:00 Uhr
URL:https://ruhrpott-erleben.de/event/karaoke-dortmund-2/2027-09-08/
LOCATION:gentleM Dortmund\, Bornstraße 22\, Dortmund\, 44135
CATEGORIES:Dortmund
END:VEVENT
BEGIN:VEVENT
DTSTART;TZID=Europe/Berlin:20270911T070000
DTEND;TZID=Europe/Berlin:20270911T140000
DTSTAMP:20260424T122339
CREATED:20240610T161043Z
LAST-MODIFIED:20240610T161043Z
UID:10001351-1820646000-1820671200@ruhrpott-erleben.de
SUMMARY:Hansa-Markt
DESCRIPTION:
URL:https://ruhrpott-erleben.de/event/hansa-markt/2027-09-11/
LOCATION:Hansaplatz\, Hansaplatz\, Dortmund
CATEGORIES:Markt
END:VEVENT
BEGIN:VEVENT
DTSTART;TZID=Europe/Berlin:20270913T200000
DTEND;TZID=Europe/Berlin:20270913T220000
DTSTAMP:20260424T122339
CREATED:20240602T222625Z
LAST-MODIFIED:20240715T091011Z
UID:10001082-1820865600-1820872800@ruhrpott-erleben.de
SUMMARY:Jazz: Monday Night Session
DESCRIPTION:Jam Session \nOrt: Club\nVeranstalter: domicil\nEinlass: 20:00 Uhr\nBeginn: 20:30 Uhr\n\nEintritt \nAK: Eintritt frei
URL:https://ruhrpott-erleben.de/event/jazz-monday-night-session/2027-09-13/
LOCATION:Domicil\, Hansastr 7-11\, Dortmund\, 44137
CATEGORIES:Kultur
END:VEVENT
BEGIN:VEVENT
DTSTART;TZID=Europe/Berlin:20270915T210000
DTEND;TZID=Europe/Berlin:20270916T030000
DTSTAMP:20260424T122339
CREATED:20250505T073909Z
LAST-MODIFIED:20250812T061804Z
UID:10002573-1821042000-1821063600@ruhrpott-erleben.de
SUMMARY:Karaoke Dortmund
DESCRIPTION:jeden Mittwoch und Samstag ab 21:00 Uhr
URL:https://ruhrpott-erleben.de/event/karaoke-dortmund-2/2027-09-15/
LOCATION:gentleM Dortmund\, Bornstraße 22\, Dortmund\, 44135
CATEGORIES:Dortmund
END:VEVENT
BEGIN:VEVENT
DTSTART;TZID=Europe/Berlin:20270918T070000
DTEND;TZID=Europe/Berlin:20270918T140000
DTSTAMP:20260424T122339
CREATED:20240610T161043Z
LAST-MODIFIED:20240610T161043Z
UID:10001352-1821250800-1821276000@ruhrpott-erleben.de
SUMMARY:Hansa-Markt
DESCRIPTION:
URL:https://ruhrpott-erleben.de/event/hansa-markt/2027-09-18/
LOCATION:Hansaplatz\, Hansaplatz\, Dortmund
CATEGORIES:Markt
END:VEVENT
BEGIN:VEVENT
DTSTART;TZID=Europe/Berlin:20270920T200000
DTEND;TZID=Europe/Berlin:20270920T220000
DTSTAMP:20260424T122339
CREATED:20240602T222625Z
LAST-MODIFIED:20240715T091011Z
UID:10001083-1821470400-1821477600@ruhrpott-erleben.de
SUMMARY:Jazz: Monday Night Session
DESCRIPTION:Jam Session \nOrt: Club\nVeranstalter: domicil\nEinlass: 20:00 Uhr\nBeginn: 20:30 Uhr\n\nEintritt \nAK: Eintritt frei
URL:https://ruhrpott-erleben.de/event/jazz-monday-night-session/2027-09-20/
LOCATION:Domicil\, Hansastr 7-11\, Dortmund\, 44137
CATEGORIES:Kultur
END:VEVENT
BEGIN:VEVENT
DTSTART;TZID=Europe/Berlin:20270922T210000
DTEND;TZID=Europe/Berlin:20270923T030000
DTSTAMP:20260424T122339
CREATED:20250505T073909Z
LAST-MODIFIED:20250812T061804Z
UID:10002574-1821646800-1821668400@ruhrpott-erleben.de
SUMMARY:Karaoke Dortmund
DESCRIPTION:jeden Mittwoch und Samstag ab 21:00 Uhr
URL:https://ruhrpott-erleben.de/event/karaoke-dortmund-2/2027-09-22/
LOCATION:gentleM Dortmund\, Bornstraße 22\, Dortmund\, 44135
CATEGORIES:Dortmund
END:VEVENT
BEGIN:VEVENT
DTSTART;TZID=Europe/Berlin:20270925T070000
DTEND;TZID=Europe/Berlin:20270925T140000
DTSTAMP:20260424T122339
CREATED:20240610T161043Z
LAST-MODIFIED:20240610T161043Z
UID:10001353-1821855600-1821880800@ruhrpott-erleben.de
SUMMARY:Hansa-Markt
DESCRIPTION:
URL:https://ruhrpott-erleben.de/event/hansa-markt/2027-09-25/
LOCATION:Hansaplatz\, Hansaplatz\, Dortmund
CATEGORIES:Markt
END:VEVENT
BEGIN:VEVENT
DTSTART;TZID=Europe/Berlin:20270927T200000
DTEND;TZID=Europe/Berlin:20270927T220000
DTSTAMP:20260424T122339
CREATED:20240602T222625Z
LAST-MODIFIED:20240715T091011Z
UID:10001084-1822075200-1822082400@ruhrpott-erleben.de
SUMMARY:Jazz: Monday Night Session
DESCRIPTION:Jam Session \nOrt: Club\nVeranstalter: domicil\nEinlass: 20:00 Uhr\nBeginn: 20:30 Uhr\n\nEintritt \nAK: Eintritt frei
URL:https://ruhrpott-erleben.de/event/jazz-monday-night-session/2027-09-27/
LOCATION:Domicil\, Hansastr 7-11\, Dortmund\, 44137
CATEGORIES:Kultur
END:VEVENT
BEGIN:VEVENT
DTSTART;TZID=Europe/Berlin:20270929T210000
DTEND;TZID=Europe/Berlin:20270930T030000
DTSTAMP:20260424T122339
CREATED:20250505T073909Z
LAST-MODIFIED:20250812T061804Z
UID:10002575-1822251600-1822273200@ruhrpott-erleben.de
SUMMARY:Karaoke Dortmund
DESCRIPTION:jeden Mittwoch und Samstag ab 21:00 Uhr
URL:https://ruhrpott-erleben.de/event/karaoke-dortmund-2/2027-09-29/
LOCATION:gentleM Dortmund\, Bornstraße 22\, Dortmund\, 44135
CATEGORIES:Dortmund
END:VEVENT
END:VCALENDAR