BEGIN:VCALENDAR
VERSION:2.0
PRODID:-//Ruhrpott erleben - ECPv6.15.20//NONSGML v1.0//EN
CALSCALE:GREGORIAN
METHOD:PUBLISH
X-ORIGINAL-URL:https://ruhrpott-erleben.de
X-WR-CALDESC:Veranstaltungen für Ruhrpott erleben
REFRESH-INTERVAL;VALUE=DURATION:PT1H
X-Robots-Tag:noindex
X-PUBLISHED-TTL:PT1H
BEGIN:VTIMEZONE
TZID:Europe/Berlin
BEGIN:DAYLIGHT
TZOFFSETFROM:+0100
TZOFFSETTO:+0200
TZNAME:CEST
DTSTART:20250330T010000
END:DAYLIGHT
BEGIN:STANDARD
TZOFFSETFROM:+0200
TZOFFSETTO:+0100
TZNAME:CET
DTSTART:20251026T010000
END:STANDARD
BEGIN:DAYLIGHT
TZOFFSETFROM:+0100
TZOFFSETTO:+0200
TZNAME:CEST
DTSTART:20260329T010000
END:DAYLIGHT
BEGIN:STANDARD
TZOFFSETFROM:+0200
TZOFFSETTO:+0100
TZNAME:CET
DTSTART:20261025T010000
END:STANDARD
BEGIN:DAYLIGHT
TZOFFSETFROM:+0100
TZOFFSETTO:+0200
TZNAME:CEST
DTSTART:20270328T010000
END:DAYLIGHT
BEGIN:STANDARD
TZOFFSETFROM:+0200
TZOFFSETTO:+0100
TZNAME:CET
DTSTART:20271031T010000
END:STANDARD
END:VTIMEZONE
BEGIN:VEVENT
DTSTART;TZID=Europe/Berlin:20260424T200000
DTEND;TZID=Europe/Berlin:20260424T220000
DTSTAMP:20260421T213911
CREATED:20260419T192817Z
LAST-MODIFIED:20260419T192817Z
UID:10003899-1777060800-1777068000@ruhrpott-erleben.de
SUMMARY:AMILA // Zauber- & Gedankenkunst hautnah - Mit den Waffen einer Frau
DESCRIPTION:AMILA   \nEinzige Zauber- & Gedankenkünstlerin in Deutschland mit eigenem Zaubertheater – und das in Bochum! \nEntwaffnende Zauberkunst aus dem Ruhrpott – direkt\, witzig & authentisch! \n  \n1 Suite • 1 Zauberin • 22 Gäste!\nDich erwartet eine fantastische Show – Exklusiv & magisch hautnah! \nMit entwaffnendem Charme\, feinem Witz und verblüffender Magie begeistert Amila\, Zauber- und Gedankenkünstlerin aus Bochum\, ihr Publikum auf ganz eigene Art. In ihrem Solo-Programm „Mit den Waffen einer Frau“ stellt sie nicht nur das klassische Bild der Magierin auf den Kopf – sie spielt mit den Klischees und Erwartungen. \n  \nWas ist eigentlich die schärfste Waffe einer Frau?\nAmila sucht in ihrer interaktiven Show nach Antworten – mit emotionaler Mentalmagie\, verblüffenden Illusionen\, direkter Publikumsansprache und einer großen Portion Humor & Wow-Effekten. Das Ergebnis: Magie\, die unter die Haut geht – nahbar\, berührend und überraschend persönlich. \n  \nIn der TV-Show von Uri Geller wurde sie als „eine einzigartige Erscheinung in der Illusions-Szene“ bezeichnet. Die Ehrlich Brothers nannten sie im Showdown der besten Magier: „Die Königin des Nervenkitzels“. \nSeit 2023 hat Amila – als einzige Magierin in Deutschland einen festen Ort für ihre Kunst im exklusiven Kreis:  \nDas Suite Magic Theater® umfasst 22 Sitzplätze und ist mittlerweile ein echter Geheimtipp in der Bochumer Eventszene.  Für alle Kulturfans\, die Magie hautnah erleben möchten. \nWann bist du dabei um pure Magie zu erleben?
URL:https://ruhrpott-erleben.de/event/amila-zauber-gedankenkunst-hautnah-mit-den-waffen-einer-frau/2026-04-24/
LOCATION:SUITE MAGIC THEATER by Amila\, Wattenscheider Hellweg 145\, Bochum\, 44867
CATEGORIES:Bochum
ATTACH;FMTTYPE=image/jpeg:https://ruhrpott-erleben.de/wp-content/uploads/2026/04/Zaubertheater_Bochum_AMILA_SMT.jpeg
END:VEVENT
END:VCALENDAR