BEGIN:VCALENDAR
VERSION:2.0
PRODID:-//Ruhrpott erleben - ECPv6.15.20//NONSGML v1.0//EN
CALSCALE:GREGORIAN
METHOD:PUBLISH
X-ORIGINAL-URL:https://ruhrpott-erleben.de
X-WR-CALDESC:Veranstaltungen für Ruhrpott erleben
REFRESH-INTERVAL;VALUE=DURATION:PT1H
X-Robots-Tag:noindex
X-PUBLISHED-TTL:PT1H
BEGIN:VTIMEZONE
TZID:Europe/Berlin
BEGIN:DAYLIGHT
TZOFFSETFROM:+0100
TZOFFSETTO:+0200
TZNAME:CEST
DTSTART:20250330T010000
END:DAYLIGHT
BEGIN:STANDARD
TZOFFSETFROM:+0200
TZOFFSETTO:+0100
TZNAME:CET
DTSTART:20251026T010000
END:STANDARD
BEGIN:DAYLIGHT
TZOFFSETFROM:+0100
TZOFFSETTO:+0200
TZNAME:CEST
DTSTART:20260329T010000
END:DAYLIGHT
BEGIN:STANDARD
TZOFFSETFROM:+0200
TZOFFSETTO:+0100
TZNAME:CET
DTSTART:20261025T010000
END:STANDARD
BEGIN:DAYLIGHT
TZOFFSETFROM:+0100
TZOFFSETTO:+0200
TZNAME:CEST
DTSTART:20270328T010000
END:DAYLIGHT
BEGIN:STANDARD
TZOFFSETFROM:+0200
TZOFFSETTO:+0100
TZNAME:CET
DTSTART:20271031T010000
END:STANDARD
END:VTIMEZONE
BEGIN:VEVENT
DTSTART;TZID=Europe/Berlin:20260510T200000
DTEND;TZID=Europe/Berlin:20260510T220000
DTSTAMP:20260425T175605
CREATED:20260421T212802Z
LAST-MODIFIED:20260421T212817Z
UID:10003909-1778443200-1778450400@ruhrpott-erleben.de
SUMMARY:SCHILLER: Euphoria - Die Arena Tour 2026
DESCRIPTION:10.05.2026: Oberhausen\, Rudolf Weber-ARENA\n12.05.2026: Köln\, LANXESS arena \nTickets gibt’s ab 60\,30 EUR HIER \nIm Mai 2026 kehrt der Elektronik-Romantiker SCHILLER endlich zurück in die schönsten Arenen Deutschlands. Die „EUPHORIA“ Tour wird uns mit sattem Surround-Sound\, einer immersiven Laser Experience und einem exakt auf die Musik abgestimmten Lichtkonzept in ein ultimatives Konzerterlebnis entführen. SCHILLERs spektakulärer Klangkosmos begeistert mit epischen Klassikern sowie brandneuen Werken seines gleichnamigen Albums\, das direkt auf Platz 1 der deutschen Album-Charts landete und SCHILLER damit bereits die zehnte #1-Platzierung bescherte. SCHILLER: „Nach atmosphärischen Konzerten unter dem Sternenhimmel freue ich mich auf unvergessliche Energie-Momente mit einem phantastischen Publikum in den größten Arenen Deutschlands. Die Reise geht weiter.“ \nHinweis: Dieser Artikel enthält Affiliate Links \nEin Affiliate Link führt in unserem Fall zu Eventim. Klickst du auf den Link und kaufst darüber einen Artikel\, dann erhalten wir eine kleine Provision. Am Preis ändert sich für dich rein gar nichts.
URL:https://ruhrpott-erleben.de/event/schiller-euphoria-die-arena-tour-2026/
LOCATION:Rudolf Weber Arena\, Arenastraße 1\, Oberhausen\, 46047\, Deutschland
CATEGORIES:Oberhausen
END:VEVENT
END:VCALENDAR