BEGIN:VCALENDAR
VERSION:2.0
PRODID:-//Ruhrpott erleben - ECPv6.15.20//NONSGML v1.0//EN
CALSCALE:GREGORIAN
METHOD:PUBLISH
X-ORIGINAL-URL:https://ruhrpott-erleben.de
X-WR-CALDESC:Veranstaltungen für Ruhrpott erleben
REFRESH-INTERVAL;VALUE=DURATION:PT1H
X-Robots-Tag:noindex
X-PUBLISHED-TTL:PT1H
BEGIN:VTIMEZONE
TZID:Europe/Berlin
BEGIN:DAYLIGHT
TZOFFSETFROM:+0100
TZOFFSETTO:+0200
TZNAME:CEST
DTSTART:20250330T010000
END:DAYLIGHT
BEGIN:STANDARD
TZOFFSETFROM:+0200
TZOFFSETTO:+0100
TZNAME:CET
DTSTART:20251026T010000
END:STANDARD
BEGIN:DAYLIGHT
TZOFFSETFROM:+0100
TZOFFSETTO:+0200
TZNAME:CEST
DTSTART:20260329T010000
END:DAYLIGHT
BEGIN:STANDARD
TZOFFSETFROM:+0200
TZOFFSETTO:+0100
TZNAME:CET
DTSTART:20261025T010000
END:STANDARD
BEGIN:DAYLIGHT
TZOFFSETFROM:+0100
TZOFFSETTO:+0200
TZNAME:CEST
DTSTART:20270328T010000
END:DAYLIGHT
BEGIN:STANDARD
TZOFFSETFROM:+0200
TZOFFSETTO:+0100
TZNAME:CET
DTSTART:20271031T010000
END:STANDARD
END:VTIMEZONE
BEGIN:VEVENT
DTSTART;TZID=Europe/Berlin:20260505T170000
DTEND;TZID=Europe/Berlin:20260505T190000
DTSTAMP:20260425T131653
CREATED:20260419T193801Z
LAST-MODIFIED:20260419T193801Z
UID:10003902-1778000400-1778007600@ruhrpott-erleben.de
SUMMARY:Depot on Tour – Mit Rückenwind zur Ernährungswende
DESCRIPTION:Wo: Treffpunkt für die gemeinsame Fahrradtour: Kulturort Depot\, Immermannstr. 29\, 44147 Dortmund. Ziel der Fahrradtour: Weltacker auf dem Schultenhof\, Stockumer Str. 109\, 44225 Dortmund.\nWie teuer: Der Eintritt ist frei. Aus organisatorischen Gründen wird um eine vorherige Anmeldung über das Formular auf unserer Homepage gebeten.\nWeiterführende Infos: Besucht mit uns den neu eröffneten Weltacker am Schultenhof und erfahrt etwas mehr über euren persönlichen Anteil an globaler Ackerfläche. Vor Ort erzählt euch der Ernährungsrat Dortmund und Region e.V. alles über den neu entstandenen Acker\, seine Funktion als Lern- und Dialogort\, als Raum für Wissensaustausch\, Kreativität und Gemeinschaft. Weiterführende Infos und kostenfreie Anmeldung unter www.depotdortmund.de
URL:https://ruhrpott-erleben.de/event/depot-on-tour-mit-rueckenwind-zur-ernaehrungswende/
LOCATION:Depot Dortmund\, Immermannstraße 29\, Dortmund\, 44147
CATEGORIES:Dortmund
END:VEVENT
END:VCALENDAR